View In:
ArcGIS JavaScript
ArcGIS Online Map Viewer
ArcGIS Earth
Service Description: peoriacountydtm
Name: peoriacountydtm
Description:
Single Fused Map Cache: false
Extent:
XMin: 2341999.4317825274
YMin: 1395997.418261074
XMax: 2498004.9317825274
YMax: 1572001.918261074
Spatial Reference: 102672
(3436)
LatestVCSWkid(0)
Initial Extent:
XMin: 2341999.4317825274
YMin: 1395997.418261074
XMax: 2498004.9317825274
YMax: 1572001.918261074
Spatial Reference: 102672
(3436)
LatestVCSWkid(0)
Full Extent:
XMin: 2341999.4317825274
YMin: 1395997.418261074
XMax: 2498004.9317825274
YMax: 1572001.918261074
Spatial Reference: 102672
(3436)
LatestVCSWkid(0)
Pixel Size X: 3.5
Pixel Size Y: 3.5
Band Count: 1
Pixel Type: F32
RasterFunction Infos: {"rasterFunctionInfos": [{
"name": "None",
"description": "",
"help": ""
}]}
Mensuration Capabilities: Basic
Inspection Capabilities:
Has Histograms: true
Has Colormap: false
Has Multi Dimensions : false
Rendering Rule:
Min Scale: 0
Max Scale: 0
Copyright Text:
Service Data Type: esriImageServiceDataTypeGeneric
Min Values: 425.11114501953
Max Values: 837.44396972656
Mean Values: 642.77112548529
Standard Deviation Values: 94.405011273721
Object ID Field:
Fields:
None
Default Mosaic Method: Center
Allowed Mosaic Methods:
SortField:
SortValue: null
Mosaic Operator: First
Default Compression Quality: 75
Default Resampling Method: Bilinear
Max Record Count: null
Max Image Height: 4100
Max Image Width: 15000
Max Download Image Count: null
Max Mosaic Image Count: null
Allow Raster Function: true
Allow Copy: true
Allow Analysis: true
Allow Compute TiePoints: false
Supports Statistics: false
Supports Advanced Queries: false
Use StandardizedQueries: true
Raster Type Infos:
Name: Raster Dataset
Description: Supports all ArcGIS Raster Datasets
Help:
Has Raster Attribute Table: false
Edit Fields Info: null
Ownership Based AccessControl For Rasters: null
Child Resources:
Info
Histograms
Statistics
Key Properties
Legend
Raster Function Infos
Supported Operations:
Export Image
Identify
Measure
Compute Histograms
Compute Statistics Histograms
Get Samples
Compute Class Statistics
Query Boundary
Compute Pixel Location
Compute Angles
Validate
Project