{
 "currentVersion": 11.4,
 "serviceDescription": "peoriacountydtm",
 "name": "peoriacountydtm",
 "description": "",
 "extent": {
  "xmin": 2341999.4317825274,
  "ymin": 1395997.418261074,
  "xmax": 2498004.9317825274,
  "ymax": 1572001.918261074,
  "spatialReference": {
   "wkid": 102672,
   "latestWkid": 3436
  }
 },
 "initialExtent": {
  "xmin": 2341999.4317825274,
  "ymin": 1395997.418261074,
  "xmax": 2498004.9317825274,
  "ymax": 1572001.918261074,
  "spatialReference": {
   "wkid": 102672,
   "latestWkid": 3436
  }
 },
 "fullExtent": {
  "xmin": 2341999.4317825274,
  "ymin": 1395997.418261074,
  "xmax": 2498004.9317825274,
  "ymax": 1572001.918261074,
  "spatialReference": {
   "wkid": 102672,
   "latestWkid": 3436
  }
 },
 "sortableFields": "",
 "bandCount": 1,
 "pixelType": "F32",
 "minValues": [
  425.11114501953
 ],
 "maxValues": [
  837.44396972656
 ],
 "meanValues": [
  642.77112548529
 ],
 "stdvValues": [
  94.405011273721
 ],
 "hasMultidimensions": false,
 "pixelSizeX": 3.5,
 "pixelSizeY": 3.5,
 "meanPixelSize": 1.0668021336042672,
 "datasetFormat": "TIFF",
 "uncompressedSize": 8965769804,
 "blockWidth": 128,
 "blockHeight": 128,
 "compressionType": "LZW",
 "bandNames": [
  "Band_1"
 ],
 "allowCopy": true,
 "allowAnalysis": true,
 "itemAccess": false,
 "inspectionCapabilities": "",
 "noDataValue": -3.4028234663852886E38,
 "noDataValues": [
  -3.4028234663852886E38
 ],
 "minPixelSize": 0,
 "maxPixelSize": 0,
 "copyrightText": "",
 "serviceDataType": "esriImageServiceDataTypeGeneric",
 "serviceSourceType": "esriImageServiceSourceTypeDataset",
 "objectIdField": "",
 "fields": [],
 "capabilities": "Image,Metadata,Mensuration",
 "defaultMosaicMethod": "Center",
 "allowedMosaicMethods": "",
 "sortField": "",
 "sortValue": null,
 "sortAscending": true,
 "mosaicOperator": "First",
 "defaultCompressionQuality": 75,
 "defaultResamplingMethod": "Bilinear",
 "maxImageHeight": 4100,
 "maxImageWidth": 15000,
 "allowRasterFunction": true,
 "rasterFunctionInfos": [
  {
   "name": "None",
   "description": "",
   "help": ""
  }
 ],
 "rasterTypeInfos": [
  {
   "name": "Raster Dataset",
   "description": "Supports all ArcGIS Raster Datasets",
   "help": ""
  }
 ],
 "mensurationCapabilities": "Basic",
 "hasHistograms": true,
 "hasColormap": false,
 "hasRasterAttributeTable": false,
 "minScale": 0,
 "maxScale": 0,
 "exportTilesAllowed": false,
 "supportsStatistics": false,
 "supportsAdvancedQueries": false,
 "editFieldsInfo": null,
 "ownershipBasedAccessControlForRasters": null,
 "allowComputeTiePoints": false,
 "useStandardizedQueries": true,
 "advancedQueryCapabilities": {
  "useStandardizedQueries": true,
  "supportsStatistics": false,
  "supportsOrderBy": false,
  "supportsDistinct": false,
  "supportsPagination": false
 },
 "spatialReference": {
  "wkid": 102672,
  "latestWkid": 3436
 }
}
