{
 "currentVersion": 11.4,
 "cimVersion": "3.4.0",
 "serviceDescription": " 2024 digital orthophoto imagery within Peoria County, IL.<\/span><\/p><\/div>",
 "mapName": "Orthos2024",
 "description": "2024 digital orthophoto imagery within Peoria County, IL.",
 "copyrightText": "County of Peoria, Pictometry International Corp., Tri-County Regional Planning Commission, State of Illinois.",
 "supportsDynamicLayers": true,
 "layers": [
  {
   "id": 0,
   "name": "2024 Aerial.tif",
   "parentLayerId": -1,
   "defaultVisibility": true,
   "subLayerIds": null,
   "minScale": 0,
   "maxScale": 0,
   "type": "Raster Layer",
   "supportsDynamicLegends": true
  }
 ],
 "tables": [],
 "spatialReference": {
  "wkid": 102100,
  "latestWkid": 3857,
  "xyTolerance": 0.001,
  "zTolerance": 0.001,
  "mTolerance": 0.001,
  "falseX": -20037700,
  "falseY": -30241100,
  "xyUnits": 10000,
  "falseZ": -100000,
  "zUnits": 10000,
  "falseM": -100000,
  "mUnits": 10000
 },
 "singleFusedMapCache": true,
 "tileInfo": {
  "rows": 256,
  "cols": 256,
  "dpi": 96,
  "format": "Mixed",
  "compressionQuality": 75,
  "origin": {
   "x": -2.0037508342787E7,
   "y": 2.0037508342787E7
  },
  "spatialReference": {
   "wkid": 102100,
   "latestWkid": 3857,
   "xyTolerance": 0.001,
   "zTolerance": 0.001,
   "mTolerance": 0.001,
   "falseX": -20037700,
   "falseY": -30241100,
   "xyUnits": 1.4892314192838538E8,
   "falseZ": -100000,
   "zUnits": 10000,
   "falseM": -100000,
   "mUnits": 10000
  },
  "lods": [
   {
    "level": 0,
    "resolution": 152.874056570411,
    "scale": 577790.554289
   },
   {
    "level": 1,
    "resolution": 76.4370282850732,
    "scale": 288895.277144
   },
   {
    "level": 2,
    "resolution": 38.2185141425366,
    "scale": 144447.638572
   },
   {
    "level": 3,
    "resolution": 19.1092570712683,
    "scale": 72223.819286
   },
   {
    "level": 4,
    "resolution": 9.55462853563415,
    "scale": 36111.909643
   },
   {
    "level": 5,
    "resolution": 4.77731426794937,
    "scale": 18055.954822
   },
   {
    "level": 6,
    "resolution": 2.38865713397468,
    "scale": 9027.977411
   },
   {
    "level": 7,
    "resolution": 1.19432856685505,
    "scale": 4513.988705
   },
   {
    "level": 8,
    "resolution": 0.597164283559817,
    "scale": 2256.994353
   },
   {
    "level": 9,
    "resolution": 0.298582141647617,
    "scale": 1128.497176
   },
   {
    "level": 10,
    "resolution": 0.14929107082380833,
    "scale": 564.248588
   }
  ]
 },
 "storageInfo": {
  "storageFormat": "esriMapCacheStorageModeCompactV2",
  "packetSize": 128
 },
 "initialExtent": {
  "xmin": -1.004241556690772E7,
  "ymin": 4932233.810672538,
  "xmax": -9930751.305519285,
  "ymax": 5016922.997680621,
  "spatialReference": {
   "cs": "pcs",
   "wkid": 102100
  }
 },
 "fullExtent": {
  "xmin": -1.0021933848179676E7,
  "ymin": 4936083.319172906,
  "xmax": -9951233.02424733,
  "ymax": 5013073.489180254,
  "spatialReference": {
   "cs": "pcs",
   "wkid": 102100
  }
 },
 "datesInUnknownTimezone": false,
 "minScale": 0,
 "maxScale": 0,
 "units": "esriMeters",
 "supportedImageFormatTypes": "PNG32,PNG24,PNG,JPG,DIB,TIFF,EMF,PS,PDF,GIF,SVG,SVGZ,BMP",
 "documentInfo": {
  "Title": "2024 Aerial",
  "Author": "",
  "Comments": "2024 digital orthophoto imagery within Peoria County, IL.",
  "Subject": "2024 digital orthophoto imagery within Peoria County, IL.",
  "Category": "",
  "Version": "3.4.0",
  "AntialiasingMode": "Fast",
  "TextAntialiasingMode": "Force",
  "Keywords": "2024,imagery,aerials,peoria county,digital,orthophotos,photos"
 },
 "supportsQueryDomains": true,
 "capabilities": "Query,Map,Data",
 "supportedQueryFormats": "JSON, geoJSON, PBF",
 "exportTilesAllowed": false,
 "referenceScale": 0.0,
 "datumTransformations": [
  {
   "geoTransforms": [
    {
     "wkid": 108190,
     "latestWkid": 108190,
     "transformForward": false,
     "name": "WGS_1984_(ITRF00)_To_NAD_1983"
    }
   ]
  },
  {
   "geoTransforms": [
    {
     "wkid": 108190,
     "latestWkid": 108190,
     "transformForward": true,
     "name": "WGS_1984_(ITRF00)_To_NAD_1983"
    }
   ]
  }
 ],
 "supportsDatumTransformation": true,
 "archivingInfo": {
  "supportsHistoricMoment": false
 },
 "supportsClipping": true,
 "supportsSpatialFilter": true,
 "supportsTimeRelation": true,
 "supportsQueryDataElements": true,
 "mapUnits": {
  "uwkid": 9001
 },
 "maxSelectionCount": 2000,
 "maxRecordCount": 2000,
 "maxImageHeight": 4096,
 "maxImageWidth": 4096,
 "supportedExtensions": ""
}
